BEGIN:VCALENDAR
VERSION:2.0
PRODID:-//wp-events-plugin.com//7.2.2.1//EN
TZID:Europe/Amsterdam
X-WR-TIMEZONE:Europe/Amsterdam
BEGIN:VEVENT
UID:298@bmi-online.nl
DTSTART:20220628T040000Z
DTEND:20220628T080000Z
DTSTAMP:20220520T135223Z
URL:https://www.bmi-online.nl/events/systematic-approaches-to-searching-fo
 r-evidence-online/
SUMMARY:Systematic Approaches to Searching for Evidence (online)
DESCRIPTION:This interactive online course will cover the key principles of
  searching for published and unpublished evidence in a systematic\, transp
 arent way.\n\nWe will look at turning a research idea into a viable\, stru
 ctured search question\; scoping the literature\; choosing sources\; devel
 oping effective strategies and documenting your searches so they can be re
 produced.\n\nThe course will draw on ScHARR’s decades of experience at t
 he forefront of evidence synthesis\, in addition to highlighting the lates
 t available search tools and emerging techniques from the relevant methodo
 logical literature.\n\nONLINE course: Tuesday\, 28th June AND Tuesday\, 12
 th July 2022 (1 day course over 2 half days)\n\nMore information
CATEGORIES:Cursussen en congressen,Webinar
END:VEVENT
END:VCALENDAR