BEGIN:VCALENDAR
VERSION:2.0
PRODID:-//wp-events-plugin.com//7.2.2.1//EN
TZID:Europe/Amsterdam
X-WR-TIMEZONE:Europe/Amsterdam
BEGIN:VEVENT
UID:292@bmi-online.nl
DTSTART;TZID=Europe/Amsterdam:20220412T100000
DTEND;TZID=Europe/Amsterdam:20220412T113000
DTSTAMP:20220411T111658Z
URL:https://www.bmi-online.nl/events/systematic-reviews-de-praktijk-online
 /
SUMMARY:Systematic Reviews: de praktijk (online)
DESCRIPTION:De UKB/SHB werkgroep Information Literacy organiseert dit voorj
 aar een vierdelige online workshopreeks Systematic Reviews: de praktijk. 
 Het is een vervolg op de webinar ‘Systematic Reviews: basiskennis en die
 nstverlening’\, die vorig jaar is gegeven.\n\nIn deze workshopreeks vind
 t een verdieping van de dienstverlening rondom systematic reviews plaats e
 n wordt een casus uitgelegd en behandeld.\n\nLesdagen:\n\nDinsdag 12 april
  van 10.00 – 11.30 uur\n\nDinsdag 19 april van 14.00 – 15.30 uur\n\nDo
 nderdag 19 mei van 14.00 – 15.30 uur\n\nDinsdag 14 juni van 14.00 – 16
 :00 uur\n\nMeer informatie.
CATEGORIES:Cursussen en congressen,Webinar
END:VEVENT
BEGIN:VTIMEZONE
TZID:Europe/Amsterdam
X-LIC-LOCATION:Europe/Amsterdam
BEGIN:DAYLIGHT
DTSTART:20220327T030000
TZOFFSETFROM:+0100
TZOFFSETTO:+0200
TZNAME:CEST
END:DAYLIGHT
END:VTIMEZONE
END:VCALENDAR