BEGIN:VCALENDAR
VERSION:2.0
PRODID:-//wp-events-plugin.com//7.2.2.1//EN
TZID:Europe/Amsterdam
X-WR-TIMEZONE:Europe/Amsterdam
BEGIN:VEVENT
UID:264@bmi-online.nl
DTSTART:20220310T190000Z
DTEND:20220413T203000Z
DTSTAMP:20220203T150357Z
URL:https://www.bmi-online.nl/events/talking-tools-an-introduction-to-syst
 ematic-review-tools/
SUMMARY:Talking Tools: An Introduction to Systematic Review Tools
DESCRIPTION:inding the right tool for the job is essential to an effective 
 and efficient systematic review process. In this two-part webinar\, panels
  of librarians experienced in systematic reviews will give you an insider
 ’s view into 11 commonly used systematic review tools.\n\nYou’ll gain 
 an overview of select systematic review tools--their purpose\, pluses and 
 minuses\, the differences between tools. . . all you’ll need to know to 
 select the right tool and give informed advice to researchers and systemat
 ic review team members.\n\nMore information.
CATEGORIES:Cursussen en congressen,Webinar
END:VEVENT
END:VCALENDAR