BEGIN:VCALENDAR
VERSION:2.0
PRODID:-//wp-events-plugin.com//7.2.2.1//EN
TZID:Europe/Amsterdam
X-WR-TIMEZONE:Europe/Amsterdam
BEGIN:VEVENT
UID:272@bmi-online.nl
DTSTART;TZID=Europe/Amsterdam:20221104T100000
DTEND;TZID=Europe/Amsterdam:20221104T163000
DTSTAMP:20220421T155037Z
URL:https://www.bmi-online.nl/events/tekstmining-online-2/
SUMMARY:Tekstmining (online)
DESCRIPTION:1-daagse workshop waarin u kennis maakt met Tekstmining en wat 
 dit voor uw organisatie kan betekenen en hoe in te zetten om de informatie
 dienstverlening te verbeteren. (GO)\n\nMeer informatie.`\n\n&nbsp\;
CATEGORIES:Cursussen en congressen,Webinar
END:VEVENT
BEGIN:VTIMEZONE
TZID:Europe/Amsterdam
X-LIC-LOCATION:Europe/Amsterdam
BEGIN:STANDARD
DTSTART:20221030T020000
TZOFFSETFROM:+0200
TZOFFSETTO:+0100
TZNAME:CET
END:STANDARD
END:VTIMEZONE
END:VCALENDAR