BEGIN:VCALENDAR
VERSION:2.0
PRODID:-//wp-events-plugin.com//7.2.2.1//EN
TZID:Europe/Amsterdam
X-WR-TIMEZONE:Europe/Amsterdam
BEGIN:VEVENT
UID:361@bmi-online.nl
DTSTART:20230315T180000Z
DTEND:20230315T210000Z
DTSTAMP:20230120T084426Z
URL:https://www.bmi-online.nl/events/the-new-rda-online-in-english-3/
SUMMARY:The New RDA (online in English)
DESCRIPTION:After years of preparation\, a completely new version of the me
 tadata standard RDA (Resource Description and Access) came into effect on 
 December 15\, 2020. The standard is now fully in line with principles and 
 practices that are common to linked data. Although the original RDA Toolki
 t from 2010 will remain available for some time for use in cataloguing\, t
 he RSC (RDA Steering Committee) advises users of the standard to familiari
 ze themselves with the new RDA in preparation for the transition to the ne
 w version.\n\n\n\n15 maart 2023\n\n\n22 maart 2023\n\n\n29 maart 2023\n\n\
 n05 april 2023\n\n\n\n\nMore information.
CATEGORIES:Cursus,Cursussen en congressen
END:VEVENT
END:VCALENDAR