BEGIN:VCALENDAR
VERSION:2.0
PRODID:-//wp-events-plugin.com//7.2.2.1//EN
TZID:Europe/Amsterdam
X-WR-TIMEZONE:Europe/Amsterdam
BEGIN:VEVENT
UID:270@bmi-online.nl
DTSTART;TZID=Europe/Amsterdam:20230307T100000
DTEND;TZID=Europe/Amsterdam:20230307T163000
DTSTAMP:20220421T154924Z
URL:https://www.bmi-online.nl/events/toegepaste-data-science-en-data-analy
 tics-5-lesdagen-online-3/
SUMMARY:Toegepaste Data science en data analytics (5 lesdagen\, online)
DESCRIPTION:5-daagse cursus waarin u verdiepende kennis en praktische vaard
 igheid opdoet met Data Science en Data Analytics\, om deze in te kunnen ze
 tten om meer waarde te halen uit datastromen van uw organisatie. (GO)\n\nL
 esdagen:\n\n07 maart 2023\n14 maart 2023\n\n\n21 maart 2023\n\n\n28 maart 
 2023\n\n\n04 april 2023\n\nMeer informatie.
CATEGORIES:Cursus,Cursussen en congressen
END:VEVENT
BEGIN:VTIMEZONE
TZID:Europe/Amsterdam
X-LIC-LOCATION:Europe/Amsterdam
BEGIN:STANDARD
DTSTART:20221030T020000
TZOFFSETFROM:+0200
TZOFFSETTO:+0100
TZNAME:CET
END:STANDARD
END:VTIMEZONE
END:VCALENDAR