BEGIN:VCALENDAR
VERSION:2.0
PRODID:-//wp-events-plugin.com//7.2.2.1//EN
TZID:Europe/Amsterdam
X-WR-TIMEZONE:Europe/Amsterdam
BEGIN:VEVENT
UID:372@bmi-online.nl
DTSTART;TZID=Europe/Amsterdam;VALUE=DATE:20230316
DTEND;TZID=Europe/Amsterdam;VALUE=DATE:20230317
DTSTAMP:20230223T075423Z
URL:https://www.bmi-online.nl/events/vogin-ip-lezing-zoeken-en-vinden-2023
 /
SUMMARY:VOGIN-IP-LEZING: Zoeken en vinden 2023
DESCRIPTION:De “VOGIN-IP-lezing” is een één-daags congres rond het br
 ede thema van het zoeken\, het vinden en het vindbaar maken van allerlei s
 oorten informatie. Sinds 2013 wordt het jaarlijks gehouden. Het congres be
 staat uit een aantal lezingen waaronder één of twee keynotes\, en – de
 els parallel daaraan – een aantal workshops waaruit deelnemers een keuze
  kunnen maken. In de loop der jaren is dit een toonaangevend evenement gew
 orden voor bibliothecarissen en informatiespecialisten en voor iedereen di
 e zich verder nog professioneel met informatievoorziening en informatiebeh
 eer bezig houdt.\n\nDit jaar zijn er een aantal sessies\, die biomedisch r
 elevant zijn\, o.a. de keynote-lezing Elisabeth Bik: “The Dark Side of S
 cience: Misconduct in Biomedical Research”.\n\nMeer informatie.
CATEGORIES:Congres,Cursussen en congressen,Symposium
LOCATION:Openbare Bibliotheek Amsterdam (OBA)\, Oosterdokskade 143\, Amster
 dam\, Noord-Holland\, 1011DL\, Nederland
X-APPLE-STRUCTURED-LOCATION;VALUE=URI;X-ADDRESS=Oosterdokskade 143\, Amster
 dam\, Noord-Holland\, 1011DL\, Nederland;X-APPLE-RADIUS=100;X-TITLE=Openba
 re Bibliotheek Amsterdam (OBA):geo:0,0
END:VEVENT
BEGIN:VTIMEZONE
TZID:Europe/Amsterdam
X-LIC-LOCATION:Europe/Amsterdam
BEGIN:STANDARD
DTSTART:20221030T020000
TZOFFSETFROM:+0200
TZOFFSETTO:+0100
TZNAME:CET
END:STANDARD
END:VTIMEZONE
END:VCALENDAR