BEGIN:VCALENDAR
VERSION:2.0
PRODID:-//wp-events-plugin.com//7.2.2.1//EN
TZID:Europe/Amsterdam
X-WR-TIMEZONE:Europe/Amsterdam
BEGIN:VEVENT
UID:458@bmi-online.nl
DTSTART;TZID=Europe/Amsterdam:20230418T090000
DTEND;TZID=Europe/Amsterdam:20230418T170000
DTSTAMP:20230301T143007Z
URL:https://www.bmi-online.nl/events/webz-dag/
SUMMARY:Web&Z-dag
DESCRIPTION:Na jaren van online bijeenkomsten is daar weer eindelijk een fy
 sieke Web&amp\;Z dag! Dit keer zijn jullie van harte welkom in het Erasmus
  MC.\n\nVerschillende sprekers zullen aan bod komen over onderwerpen als h
 et gebruik van PRESS\, de PubMedSyntax\, een ontwikkelde filter\, en nog v
 eel meer. Daarnaast zullen we met elkaar een casus bespreken en in discuss
 ie gaan over\nde gebruiksvriendelijkheid van je gepubliceerde zoekstrategi
 e.\n\nAanmelden kan binnenkort\, dus hou de Web&amp\;Z discussielijst in d
 e gaten.
CATEGORIES:BMI-event,Cursussen en congressen,Web&amp;Z
END:VEVENT
BEGIN:VTIMEZONE
TZID:Europe/Amsterdam
X-LIC-LOCATION:Europe/Amsterdam
BEGIN:DAYLIGHT
DTSTART:20230326T030000
TZOFFSETFROM:+0100
TZOFFSETTO:+0200
TZNAME:CEST
END:DAYLIGHT
END:VTIMEZONE
END:VCALENDAR