BEGIN:VCALENDAR
VERSION:2.0
PRODID:-//wp-events-plugin.com//7.2.2.1//EN
TZID:Europe/Amsterdam
X-WR-TIMEZONE:Europe/Amsterdam
BEGIN:VEVENT
UID:290@bmi-online.nl
DTSTART;TZID=Europe/Amsterdam:20220420T183000
DTEND;TZID=Europe/Amsterdam:20220420T210000
DTSTAMP:20220407T094421Z
URL:https://www.bmi-online.nl/events/workshop-responsible-data-science-ana
 lytics-rotterdam/
SUMMARY:Workshop Responsible Data Science & Analytics (Rotterdam)
DESCRIPTION:Hoe geef je op een verantwoorde wijze vorm aan data science pr
 ojecten en toepassingen? Docenten aan de Hogeschool Rotterdam\, Tanja Uber
 t en Gabriella Obispa\, bespreken welke vragen je je van tevoren moet stel
 len en hoe je dit concreet kunt aanpakken.\n\nMet data science groeit de i
 mpact op de wereld om ons heen elke dag aanzienlijk. Maar wat zijn de conc
 rete stappen die we kunnen zetten? In deze sessie maak je kennis met veran
 twoordelijke data science en hoe ethiek kan worden geïntegreerd in techno
 logie. Tanja Ubert en Gabriella Obispa tonen hoe we ‘responsibility’ 
 moeten incorporeren in ons werk met data. Welke vragen kunnen we stellen\,
  welke verantwoordelijkheid hebben we\, als specialisten\, te nemen wannee
 r we verzamelen\, gebruiken en implementeren voor data oplossingen in onze
  wereld.\n\nWaarom responsible data science?\n- Een praktisch startpunt o
 m ethiek te incorporeren in je data team en organisatie\n- Value sensitiv
 e design – waarden in technologische innovaties\n- Workshop self-asses
 sment current projects\, the data ethics framework: hoe start je met het i
 mplementeren van transparency\, accountability and fairness: ontwerp de ee
 rste versie van een (her)gedefinieerde richtlijn zodat we werken naar resp
 onsible data science\n- Ethische dialoog: delen van inzichten in groepen\
 , de start van een community.\n\nMeer informatie.
CATEGORIES:Cursussen en congressen,Workshop
LOCATION:Hogeschool Rotterdam\, Wijnhaven 107\, Rotterdam\, 3011 WN\, Neder
 land
X-APPLE-STRUCTURED-LOCATION;VALUE=URI;X-ADDRESS=Wijnhaven 107\, Rotterdam\,
  3011 WN\, Nederland;X-APPLE-RADIUS=100;X-TITLE=Hogeschool Rotterdam:geo:0
 ,0
END:VEVENT
BEGIN:VTIMEZONE
TZID:Europe/Amsterdam
X-LIC-LOCATION:Europe/Amsterdam
BEGIN:DAYLIGHT
DTSTART:20220327T030000
TZOFFSETFROM:+0100
TZOFFSETTO:+0200
TZNAME:CEST
END:DAYLIGHT
END:VTIMEZONE
END:VCALENDAR